BEGIN:VCALENDAR
VERSION:2.0
PRODID:-//Spaarnesant Academie - ECPv6.12.0.1//NONSGML v1.0//EN
CALSCALE:GREGORIAN
METHOD:PUBLISH
X-WR-CALNAME:Spaarnesant Academie
X-ORIGINAL-URL:https://spaarnesantacademie.nl
X-WR-CALDESC:Evenementen voor Spaarnesant Academie
REFRESH-INTERVAL;VALUE=DURATION:PT1H
X-Robots-Tag:noindex
X-PUBLISHED-TTL:PT1H
BEGIN:VTIMEZONE
TZID:Europe/Amsterdam
BEGIN:DAYLIGHT
TZOFFSETFROM:+0100
TZOFFSETTO:+0200
TZNAME:CEST
DTSTART:20250330T010000
END:DAYLIGHT
BEGIN:STANDARD
TZOFFSETFROM:+0200
TZOFFSETTO:+0100
TZNAME:CET
DTSTART:20251026T010000
END:STANDARD
END:VTIMEZONE
BEGIN:VEVENT
DTSTART;TZID=Europe/Amsterdam:20250604T150000
DTEND;TZID=Europe/Amsterdam:20250604T173000
DTSTAMP:20260424T090759
CREATED:20241018T073648Z
LAST-MODIFIED:20241220T095850Z
UID:16069-1749049200-1749058200@spaarnesantacademie.nl
SUMMARY:Balans in de klas
DESCRIPTION:In het kort\nStel je voor dat je de dag begint met een kalme\, geconcentreerde groep kinderen. Ze zijn klaar om te leren\, vol energie en toch ontspannen. Met de deze kennismaking met de training Balans in de Klas leer je niet alleen hoe je deze harmonieuze sfeer kunt creëren\, maar ontdek je ook wat deze technieken voor jou als leerkracht kunnen betekenen. In deze praktijkgerichte training maak je kennis met verschillende methoden om de rust en focus in je klas te bevorderen\, en ervaar je de transformatieve kracht van Balans in de Klas zelf. \nDit is een kennismakingsworkshop\, de langere 8 bijeenkomsten durende training wordt bij voldoende animo in het schooljaar 2025/2026 gegeven. \nEen review:\n“Ik heb de afwisseling tussen informatie\, uitleg van de oefening\, oefeningen actief ervaren\, de vele fysieke tools als adembal\, konijn\, aap\, en de werkbladen in de training ‘Balans in de Klas‘ als erg prettig ervaren. Het is een praktijk-gerichte waardevolle training. Mijn kinderen in de klas gaan glunderen als ze het kaartje ‘Mijn Momentje’ zien hangen.” \n  \nWat je leert\n\n Je leert hoe je een omgeving kunt scheppen waarin kinderen ontspannen en gefocust de schooldag beginnen\, met behulp van bewezen ademhalings- en ontspanningstechnieken.\n Je gaat aan de slag met fysieke tools zoals de adembal\, het konijn en de aap\, en leert hoe je deze effectief kunt inzetten om kinderen op een speelse manier te helpen ontspannen en concentreren.\n Je leert eenvoudige mindfulness-oefeningen die je direct kunt toepassen in de klas om de focus en aandacht van je leerlingen te verbeteren.\nJe ontdekt hoe je zelf in balans kunt blijven door het toepassen van de technieken uit de training\, zodat je met meer energie\, geduld en plezier voor de klas staat.\n\nOntdek de magie van Balans in de Klas. Samen creëren we een klaslokaal waar leren\, groeien en balans hand in hand gaan! \n  \nData\nWoensdag 4 juni 2025 van 15.00-17.30 uur.
URL:https://spaarnesantacademie.nl/aanbod/balans-in-de-klas-2/
LOCATION:Spaarnesant
CATEGORIES:Training
ATTACH;FMTTYPE=image/jpeg:https://wp-spaarnesant-academie.s3.eu-central-1.amazonaws.com/2024/12/Firefly-Graag-een-afbeelding-van-een-weegschaal-in-een-klaslokaal-een-schattige-afbeelding-met-kleu.jpg
END:VEVENT
END:VCALENDAR